BEGIN:VCALENDAR
VERSION:2.0
PRODID:-//NADI Taman Mutiara 1 - ECPv6.15.13.1//NONSGML v1.0//EN
CALSCALE:GREGORIAN
METHOD:PUBLISH
X-WR-CALNAME:NADI Taman Mutiara 1
X-ORIGINAL-URL:https://tamanmutiara1.nadi.my
X-WR-CALDESC:Events for NADI Taman Mutiara 1
REFRESH-INTERVAL;VALUE=DURATION:PT1H
X-Robots-Tag:noindex
X-PUBLISHED-TTL:PT1H
BEGIN:VTIMEZONE
TZID:Asia/Kuala_Lumpur
BEGIN:STANDARD
TZOFFSETFROM:+0800
TZOFFSETTO:+0800
TZNAME:+08
DTSTART:20240101T000000
END:STANDARD
END:VTIMEZONE
BEGIN:VEVENT
DTSTART;TZID=Asia/Kuala_Lumpur:20250604T100000
DTEND;TZID=Asia/Kuala_Lumpur:20250604T110000
DTSTAMP:20260417T165333
CREATED:20250604T024531Z
LAST-MODIFIED:20250610T072257Z
UID:2802-1749031200-1749034800@tamanmutiara1.nadi.my
SUMMARY:KEMPEN INTERNET SELAMAT 7-12 TAHUN - ANCAMAN SIBER
DESCRIPTION:
URL:https://tamanmutiara1.nadi.my/event/kempen-internet-selamat-safe-ancaman-siber/
END:VEVENT
BEGIN:VEVENT
DTSTART;TZID=Asia/Kuala_Lumpur:20250604T110000
DTEND;TZID=Asia/Kuala_Lumpur:20250604T120000
DTSTAMP:20260417T165333
CREATED:20250604T024728Z
LAST-MODIFIED:20250610T072149Z
UID:2804-1749034800-1749038400@tamanmutiara1.nadi.my
SUMMARY:KEMPEN INTERNET SELAMAT 13 TAHUN DAN KE ATAS - LAMAN WEB JAHAT: KENALI TAKTIK LAMAN WEB JAHAT
DESCRIPTION:
URL:https://tamanmutiara1.nadi.my/event/kempen-internet-selamat-shield-laman-web-jahat-kenali-taktik-laman-web-jahat/
END:VEVENT
END:VCALENDAR