BEGIN:VCALENDAR
VERSION:2.0
PRODID:-//NADI Taman Mutiara 1 - ECPv6.15.13.1//NONSGML v1.0//EN
CALSCALE:GREGORIAN
METHOD:PUBLISH
X-WR-CALNAME:NADI Taman Mutiara 1
X-ORIGINAL-URL:https://tamanmutiara1.nadi.my
X-WR-CALDESC:Events for NADI Taman Mutiara 1
REFRESH-INTERVAL;VALUE=DURATION:PT1H
X-Robots-Tag:noindex
X-PUBLISHED-TTL:PT1H
BEGIN:VTIMEZONE
TZID:Asia/Kuala_Lumpur
BEGIN:STANDARD
TZOFFSETFROM:+0800
TZOFFSETTO:+0800
TZNAME:+08
DTSTART:20240101T000000
END:STANDARD
END:VTIMEZONE
BEGIN:VEVENT
DTSTART;TZID=Asia/Kuala_Lumpur:20250810T090000
DTEND;TZID=Asia/Kuala_Lumpur:20250810T120000
DTSTAMP:20260421T045246
CREATED:20250805T044424Z
LAST-MODIFIED:20250805T044424Z
UID:2990-1754816400-1754827200@tamanmutiara1.nadi.my
SUMMARY:Saringan Perlawanan Esport Mobile Legend NADI Taman Mutiara 1
DESCRIPTION:Per
URL:https://tamanmutiara1.nadi.my/event/saringan-perlawanan-esport-mobile-legend-nadi-taman-mutiara-1/
END:VEVENT
END:VCALENDAR